BEGIN:VCALENDAR
VERSION:2.0
PRODID:-//Sabre//Sabre VObject 4.5.8//EN
CALSCALE:GREGORIAN
BEGIN:VEVENT
UID:sabre-vobject-c089ccd5-c898-4cfa-a84f-8db985f85b60
DTSTAMP:20260420T085824Z
SUMMARY:Fahrt nach Wertheim und Seinsheim
DESCRIPTION:https://keb-neu-ulm.de/fahrt-nach-wertheim-und-seinsheim_id2318
 69
DTSTART;TZID=Europe/Berlin:20240615T070000
LOCATION:Pfarrzentrum Heilig Kreuz\, Kolpingstraße 9\, 89233 Neu-Ulm
END:VEVENT
END:VCALENDAR
