BEGIN:VCALENDAR
VERSION:2.0
PRODID:-//Sabre//Sabre VObject 4.5.8//EN
CALSCALE:GREGORIAN
BEGIN:VEVENT
UID:sabre-vobject-b221b73e-48ec-464d-ad52-671bee226e49
DTSTAMP:20260422T161151Z
SUMMARY:Fahrt zum Keltenmuseum Heuneburg und Campus Galli in Meßkirch
DESCRIPTION:https://keb-neu-ulm.de/fahrt-zum-keltenmuseum-heuneburg-und-cam
 pus-galli-in-messkirch_id233697
DTSTART;TZID=Europe/Berlin:20240712T080000
LOCATION:KEB Katholische Erwachsenenbildung\, Johannesplatz 4\, 89231 Neu-U
 lm
END:VEVENT
END:VCALENDAR
