BEGIN:VCALENDAR
VERSION:2.0
PRODID:-//Sabre//Sabre VObject 4.5.8//EN
CALSCALE:GREGORIAN
BEGIN:VEVENT
UID:sabre-vobject-b540a475-ce26-4599-b613-b04984fb8a44
DTSTAMP:20260421T084931Z
SUMMARY:Deutsch Nachhilfe
DESCRIPTION:https://keb-neu-ulm.de/deutsch-nachhilfe_id233827
DTSTART;TZID=Europe/Berlin:20240606T180000
DTEND;TZID=Europe/Berlin:20241219T193000
LOCATION:Malteser Hilfsdienst e.V.\, Donaustraße 33\, 89231 Neu-Ulm
END:VEVENT
END:VCALENDAR
