BEGIN:VCALENDAR
VERSION:2.0
PRODID:-//Sabre//Sabre VObject 4.5.8//EN
CALSCALE:GREGORIAN
BEGIN:VEVENT
UID:sabre-vobject-e2b0186c-8170-44bf-9e01-938ab31cf147
DTSTAMP:20260420T091017Z
SUMMARY:Eltern-Kind-Gruppe des Familienstützpunktes Weißenhorn (ASB) in P
 faffenhofen - Donnerstagsgruppe
DESCRIPTION:https://keb-neu-ulm.de/eltern-kind-gruppe-des-familienstuetzpun
 ktes-weissenhorn-asb-in-pfaffenhofen-donnerstagsgruppe_id252507
DTSTART;TZID=Europe/Berlin:20250102T093000
DTEND;TZID=Europe/Berlin:20251218T110000
LOCATION:Alte Schule\, Hauptstraße 26\, 89284 Pfaffenhofen an der Roth
END:VEVENT
END:VCALENDAR
