BEGIN:VCALENDAR
VERSION:2.0
PRODID:-//Sabre//Sabre VObject 4.5.8//EN
CALSCALE:GREGORIAN
BEGIN:VEVENT
UID:sabre-vobject-7a1590a9-664b-4601-a54a-62b492af39bf
DTSTAMP:20260423T154146Z
SUMMARY:Zeit für mich – Wohlfühlwege entdecken
DESCRIPTION:https://keb-neu-ulm.de/zeit-fuer-mich-wohlfuehlwege-entdecken_i
 d296460
DTSTART;TZID=Europe/Berlin:20260126T183000
LOCATION:Johanneshaus Neu-Ulm\, Johannesplatz 4\, 89231 Neu-Ulm
END:VEVENT
END:VCALENDAR
