BEGIN:VCALENDAR
VERSION:2.0
PRODID:-//Sabre//Sabre VObject 4.5.8//EN
CALSCALE:GREGORIAN
BEGIN:VEVENT
UID:sabre-vobject-8c391c37-ad90-433a-960f-6c6367dc6ac7
DTSTAMP:20260424T143206Z
SUMMARY:Kirchenführung in St. Johann Baptist in Neu-Ulm
DESCRIPTION:https://keb-neu-ulm.de/kirchenfuehrung-in-st-johann-baptist-in-
 neu-ulm_id296905
DTSTART;TZID=Europe/Berlin:20260920T140000
LOCATION:St. Johann Baptist Neu-Ulm\, Johannesplatz 1\, 89231 Neu-Ulm
END:VEVENT
END:VCALENDAR
