BEGIN:VCALENDAR
VERSION:2.0
PRODID:-//Sabre//Sabre VObject 4.5.8//EN
CALSCALE:GREGORIAN
BEGIN:VEVENT
UID:sabre-vobject-df8b5bc4-130f-4e47-b486-c4bd78a7676b
DTSTAMP:20260424T115922Z
SUMMARY:Kirchenführung in St. Johann Baptist in Neu-Ulm
DESCRIPTION:https://keb-neu-ulm.de/kirchenfuehrung-in-st-johann-baptist-in-
 neu-ulm_id296906
DTSTART;TZID=Europe/Berlin:20261213T140000
LOCATION:St. Johann Baptist Neu-Ulm\, Johannesplatz 1\, 89231 Neu-Ulm
END:VEVENT
END:VCALENDAR
