BEGIN:VCALENDAR
VERSION:2.0
PRODID:-//Sabre//Sabre VObject 4.5.8//EN
CALSCALE:GREGORIAN
BEGIN:VEVENT
UID:sabre-vobject-2ebd3943-ee42-40d9-9ff2-c9c419e6a94a
DTSTAMP:20260423T201128Z
SUMMARY:Notfall\, was tun?
DESCRIPTION:https://keb-neu-ulm.de/notfall-was-tun_id300900
DTSTART;TZID=Europe/Berlin:20261014T190000
LOCATION:Pfarrheim St. Martin Illerberg\, Obere Hauptstraße 25\, 89269 Vö
 hringen
END:VEVENT
END:VCALENDAR
