BEGIN:VCALENDAR
VERSION:2.0
PRODID:-//Sabre//Sabre VObject 4.5.8//EN
CALSCALE:GREGORIAN
BEGIN:VEVENT
UID:sabre-vobject-34767648-c102-47b9-b808-7a1b095a9212
DTSTAMP:20260422T161003Z
SUMMARY:"Ein Pflaster auf viele Wunden" (Etty Hillesum)
DESCRIPTION:https://keb-neu-ulm.de/ein-pflaster-auf-viele-wunden-etty-hille
 sum_id306285
DTSTART;TZID=Europe/Berlin:20260425T093000
LOCATION:Erzabtei St. Ottilien\, Erzabtei 1\, 86941 Eresing
END:VEVENT
END:VCALENDAR
