BEGIN:VCALENDAR
VERSION:2.0
PRODID:-//Sabre//Sabre VObject 4.5.8//EN
CALSCALE:GREGORIAN
BEGIN:VEVENT
UID:sabre-vobject-34c31718-c2e4-4758-b066-aaa4a59b099d
DTSTAMP:20260421T191537Z
SUMMARY:„KESS – Stressless Summer“
DESCRIPTION:https://keb-neu-ulm.de/kess-stressless-summer_id306288
DTSTART;TZID=Europe/Berlin:20260905T180000
DTEND;TZID=Europe/Berlin:20260911T100000
LOCATION:Haus Zauberberg\, Kolpingstraße 23\, 87459 Pfronten
END:VEVENT
END:VCALENDAR
