BEGIN:VCALENDAR
VERSION:2.0
PRODID:-//Sabre//Sabre VObject 4.5.8//EN
CALSCALE:GREGORIAN
BEGIN:VEVENT
UID:sabre-vobject-75cf1c95-6746-4023-8a59-54b04969117f
DTSTAMP:20260421T083411Z
SUMMARY:„Klingt gut! Tut gut!“
DESCRIPTION:https://keb-neu-ulm.de/klingt-gut-tut-gut_id306292
DTSTART;TZID=Europe/Berlin:20260508T180000
DTEND;TZID=Europe/Berlin:20260510T130000
LOCATION:Allgäuhaus Wertach\, Kolpingstraße 1\, 87497 Wertach
END:VEVENT
END:VCALENDAR
