BEGIN:VCALENDAR
VERSION:2.0
PRODID:-//Sabre//Sabre VObject 4.5.8//EN
CALSCALE:GREGORIAN
BEGIN:VEVENT
UID:sabre-vobject-522e010c-ff4b-4834-84a4-97756931d85e
DTSTAMP:20260420T085824Z
SUMMARY:(Trauer)-Wissen vor acht
DESCRIPTION:https://keb-neu-ulm.de/trauer-wissen-vor-acht_id306949
DTSTART;TZID=Europe/Berlin:20260325T190000
LOCATION:Online
END:VEVENT
END:VCALENDAR
