BEGIN:VCALENDAR
VERSION:2.0
PRODID:-//Sabre//Sabre VObject 4.5.8//EN
CALSCALE:GREGORIAN
BEGIN:VEVENT
UID:sabre-vobject-bba44855-3a89-4b89-affe-39029039cb00
DTSTAMP:20260420T131148Z
SUMMARY:Ein Nachmittag im Sommergarten
DESCRIPTION:https://keb-neu-ulm.de/ein-nachmittag-im-sommergarten_id316826
DTSTART;TZID=Europe/Berlin:20260707T143000
LOCATION:Pfarrzentrum St. Albert\, Schillerstraße 30/3\, 89231 Neu-Ulm
END:VEVENT
END:VCALENDAR
