BEGIN:VCALENDAR
VERSION:2.0
PRODID:-//Sabre//Sabre VObject 4.5.8//EN
CALSCALE:GREGORIAN
BEGIN:VEVENT
UID:sabre-vobject-da3af4c4-b881-4fb1-a65b-961c6941c46b
DTSTAMP:20260421T131819Z
SUMMARY:Notfallseminar für Senioren
DESCRIPTION:https://keb-neu-ulm.de/notfallseminar-fuer-senioren_id317047
DTSTART;TZID=Europe/Berlin:20260716T140000
LOCATION:Haus der Begegnung\, Zeisestraße 20\, 89250 Senden
END:VEVENT
END:VCALENDAR
