BEGIN:VCALENDAR
VERSION:2.0
PRODID:-//Sabre//Sabre VObject 4.5.8//EN
CALSCALE:GREGORIAN
BEGIN:VEVENT
UID:sabre-vobject-ccee7c20-6fbe-40a8-b4b5-ff07bf02e95e
DTSTAMP:20260420T090655Z
SUMMARY:"Mach dich auf"
DESCRIPTION:https://keb-neu-ulm.de/mach-dich-auf_id317283
DTSTART;TZID=Europe/Berlin:20260219T194500
LOCATION:Johanneshaus Neu-Ulm\, Johannesplatz 4\, 89231 Neu-Ulm
END:VEVENT
END:VCALENDAR
