BEGIN:VCALENDAR
VERSION:2.0
PRODID:-//Sabre//Sabre VObject 4.5.8//EN
CALSCALE:GREGORIAN
BEGIN:VEVENT
UID:sabre-vobject-6470ca03-5258-4741-a77d-c3bc78f819fa
DTSTAMP:20260423T102658Z
SUMMARY:Zeit für mich - Wellness für die Weiblichkeit
DESCRIPTION:https://keb-neu-ulm.de/zeit-fuer-mich-wellness-fuer-die-weiblic
 hkeit_id318296
DTSTART;TZID=Europe/Berlin:20260424T143000
DTEND;TZID=Europe/Berlin:20260426T160000
LOCATION:Evang. Freizeitenheim Kahlrückenalpe\, Sigiswang 32\, 87527 Ofter
 schwang
END:VEVENT
END:VCALENDAR
