BEGIN:VCALENDAR
VERSION:2.0
PRODID:-//Sabre//Sabre VObject 4.5.8//EN
CALSCALE:GREGORIAN
BEGIN:VEVENT
UID:sabre-vobject-89f17a2a-0972-4e2d-a859-30fe0e348b80
DTSTAMP:20260422T125659Z
SUMMARY:Jubiläumstagung
DESCRIPTION:https://keb-neu-ulm.de/jubilaeumstagung_id319192
DTSTART;TZID=Europe/Berlin:20260424T140000
DTEND;TZID=Europe/Berlin:20260426T123000
LOCATION:Schwabenakademie Irsee und Crescentiakloster Kaufbeuren\, Klosterr
 ing 4\, 87660 Irsee
END:VEVENT
END:VCALENDAR
