BEGIN:VCALENDAR
VERSION:2.0
PRODID:-//Sabre//Sabre VObject 4.5.8//EN
CALSCALE:GREGORIAN
BEGIN:VEVENT
UID:sabre-vobject-5294a4c7-4f3d-47a7-be91-d0c2926c7d23
DTSTAMP:20260419T191005Z
SUMMARY:ehe.wir.heiraten
DESCRIPTION:https://keb-neu-ulm.de/ehe-wir-heiraten_id319511
DTSTART;TZID=Europe/Berlin:20260718T083000
LOCATION:Pfarrheim zum Guten Hirten\, Gut-Hirten-Weg 3\, 89281 Altenstadt
END:VEVENT
END:VCALENDAR
