BEGIN:VCALENDAR
VERSION:2.0
PRODID:-//Sabre//Sabre VObject 4.5.8//EN
CALSCALE:GREGORIAN
BEGIN:VEVENT
UID:sabre-vobject-86545301-accc-4e76-8d6f-9c68f4d5af4b
DTSTAMP:20260421T115025Z
SUMMARY:ehe.wir.heiraten
DESCRIPTION:https://keb-neu-ulm.de/ehe-wir-heiraten_id319512
DTSTART;TZID=Europe/Berlin:20261010T083000
LOCATION:Franziskushaus\, Weberstraße 18\, 89343 Jettingen-Scheppach
END:VEVENT
END:VCALENDAR
