BEGIN:VCALENDAR
VERSION:2.0
PRODID:-//Sabre//Sabre VObject 4.5.8//EN
CALSCALE:GREGORIAN
BEGIN:VEVENT
UID:sabre-vobject-46bfbf10-6faa-4330-b856-7d1cd0e966e2
DTSTAMP:20260424T223419Z
SUMMARY:ehe.wir.heiraten
DESCRIPTION:https://keb-neu-ulm.de/ehe-wir-heiraten_id319513
DTSTART;TZID=Europe/Berlin:20261121T083000
LOCATION:Pfarrheim St. Martin Illertissen\, Martinsplatz 2\, 89257 Illertis
 sen
END:VEVENT
END:VCALENDAR
