BEGIN:VCALENDAR
VERSION:2.0
PRODID:-//Sabre//Sabre VObject 4.5.8//EN
CALSCALE:GREGORIAN
BEGIN:VEVENT
UID:sabre-vobject-d4aa9d16-e166-45db-814d-979000ee8c57
DTSTAMP:20260424T185818Z
SUMMARY:Ausnahmezustand Pubertät
DESCRIPTION:https://keb-neu-ulm.de/ausnahmezustand-pubertaet_id319629
DTSTART;TZID=Europe/Berlin:20260622T190000
LOCATION:Adlergebäude\, Hauptstraße 2\, 89257 Illertissen
END:VEVENT
END:VCALENDAR
