BEGIN:VCALENDAR
VERSION:2.0
PRODID:-//Sabre//Sabre VObject 4.5.8//EN
CALSCALE:GREGORIAN
BEGIN:VEVENT
UID:sabre-vobject-7cefc06b-c02a-4788-9a2b-2578d89acb04
DTSTAMP:20260425T140140Z
SUMMARY:Von Wutzwergen und Trotzköpfen
DESCRIPTION:https://keb-neu-ulm.de/von-wutzwergen-und-trotzkoepfen_id319632
DTSTART;TZID=Europe/Berlin:20260701T190000
LOCATION:Familienstützpunkt Senden in der KiTa St. Lucia\, Dillmannstraße
  10\, 89250 Senden
END:VEVENT
END:VCALENDAR
