BEGIN:VCALENDAR
VERSION:2.0
PRODID:-//Sabre//Sabre VObject 4.5.8//EN
CALSCALE:GREGORIAN
BEGIN:VEVENT
UID:sabre-vobject-3c7df418-306d-4ffa-aeea-507702d1a32a
DTSTAMP:20260425T135622Z
SUMMARY:Günzburg entdecken
DESCRIPTION:https://keb-neu-ulm.de/guenzburg-entdecken_id321769
DTSTART;TZID=Europe/Berlin:20260516T100000
LOCATION:Katholisches Pfarrheim Holzheim\, Kirchstraße 15\, 89291 Holzheim
END:VEVENT
END:VCALENDAR
