BEGIN:VCALENDAR
VERSION:2.0
PRODID:-//Sabre//Sabre VObject 4.5.8//EN
CALSCALE:GREGORIAN
BEGIN:VEVENT
UID:sabre-vobject-63fc95c1-308e-4de7-9666-51bd1492f86c
DTSTAMP:20260424T223457Z
SUMMARY:Die Welt der Bergbauern
DESCRIPTION:https://keb-neu-ulm.de/die-welt-der-bergbauern_id322149
DTSTART;TZID=Europe/Berlin:20261114T190000
LOCATION:Augustana Gemeindezentrum Weißenhorn\, Schubertstraße 18\, 89264
  Weißenhorn
END:VEVENT
END:VCALENDAR
