BEGIN:VCALENDAR
VERSION:2.0
PRODID:-//Sabre//Sabre VObject 4.5.8//EN
CALSCALE:GREGORIAN
BEGIN:VEVENT
UID:sabre-vobject-70cf800a-8138-4b85-ab85-25a7dba5e657
DTSTAMP:20260424T110015Z
SUMMARY:Bibelgespräch
DESCRIPTION:https://keb-neu-ulm.de/bibelgespraech_id322636
DTSTART;TZID=Europe/Berlin:20260512T150000
LOCATION:Staudengärtnerei Gaißmayer\, Jungviehweide 3\, 89257 Illertissen
END:VEVENT
END:VCALENDAR
