BEGIN:VCALENDAR
VERSION:2.0
PRODID:-//Sabre//Sabre VObject 4.5.8//EN
CALSCALE:GREGORIAN
BEGIN:VEVENT
UID:sabre-vobject-895e8981-6b30-4759-a956-042fcc4ca626
DTSTAMP:20260424T132738Z
SUMMARY:Dominikus-Ringeisen-Werk in Ursberg
DESCRIPTION:https://keb-neu-ulm.de/dominikus-ringeisen-werk-in-ursberg_id32
 2640
DTSTART;TZID=Europe/Berlin:20260706T141500
LOCATION:Pfarrheim St. Martin\, Martinsplatz 2\, 89257 Illertissen
END:VEVENT
END:VCALENDAR
