BEGIN:VCALENDAR
VERSION:2.0
PRODID:-//Sabre//Sabre VObject 4.5.8//EN
CALSCALE:GREGORIAN
BEGIN:VEVENT
UID:sabre-vobject-3f208aa6-857b-40ec-bd79-e35805ccfaad
DTSTAMP:20260420T103208Z
SUMMARY:A1.1-Deutschkurs für erwachsene Migranten
DESCRIPTION:https://keb-neu-ulm.de/a1-1-deutschkurs-fuer-erwachsene-migrant
 en_id322804
DTSTART;TZID=Europe/Berlin:20260430T093000
DTEND;TZID=Europe/Berlin:20260430T143000
LOCATION:Malteser Hilfsdienst e.V.\, Donaustraße 33\, 89231 Neu-Ulm
END:VEVENT
END:VCALENDAR
