BEGIN:VCALENDAR
VERSION:2.0
PRODID:-//Sabre//Sabre VObject 4.5.8//EN
CALSCALE:GREGORIAN
BEGIN:VEVENT
UID:sabre-vobject-8f31cf3b-300d-425d-8d27-7f61e4d090b1
DTSTAMP:20260422T084435Z
SUMMARY:A1.1-Deutschkurs für erwachsene Migranten
DESCRIPTION:https://keb-neu-ulm.de/a1-1-deutschkurs-fuer-erwachsene-migrant
 en_id322805
DTSTART;TZID=Europe/Berlin:20260505T103000
DTEND;TZID=Europe/Berlin:20260505T143000
LOCATION:Malteser Hilfsdienst e.V.\, Donaustraße 33\, 89231 Neu-Ulm
END:VEVENT
END:VCALENDAR
