BEGIN:VCALENDAR
VERSION:2.0
PRODID:-//Sabre//Sabre VObject 4.5.8//EN
CALSCALE:GREGORIAN
BEGIN:VEVENT
UID:sabre-vobject-0e994581-bc5d-4f52-a8da-8131a1b90a13
DTSTAMP:20260420T104325Z
SUMMARY:Deutschtreff
DESCRIPTION:https://keb-neu-ulm.de/deutschtreff_id322836
DTSTART;TZID=Europe/Berlin:20260504T180000
DTEND;TZID=Europe/Berlin:20260504T193000
LOCATION:Malteser Hilfsdienst e.V.\, Donaustraße 33\, 89231 Neu-Ulm
END:VEVENT
END:VCALENDAR
