BEGIN:VCALENDAR
VERSION:2.0
PRODID:-//Sabre//Sabre VObject 4.5.8//EN
CALSCALE:GREGORIAN
BEGIN:VEVENT
UID:sabre-vobject-1aa435ce-5168-476b-b744-baa604931bca
DTSTAMP:20260420T104839Z
SUMMARY:Deutschtreff
DESCRIPTION:https://keb-neu-ulm.de/deutschtreff_id322837
DTSTART;TZID=Europe/Berlin:20260511T180000
DTEND;TZID=Europe/Berlin:20260511T193000
LOCATION:Malteser Hilfsdienst e.V.\, Donaustraße 33\, 89231 Neu-Ulm
END:VEVENT
END:VCALENDAR
