BEGIN:VCALENDAR
VERSION:2.0
PRODID:-//Sabre//Sabre VObject 4.5.8//EN
CALSCALE:GREGORIAN
BEGIN:VEVENT
UID:sabre-vobject-8fc43627-c63a-440c-a2f7-3447b06824d7
DTSTAMP:20260421T065307Z
SUMMARY:Herzlich willkommen im falschen Film
DESCRIPTION:https://keb-neu-ulm.de/herzlich-willkommen-im-falschen-film_id3
 23389
DTSTART;TZID=Europe/Berlin:20260428T100000
LOCATION:Online
END:VEVENT
END:VCALENDAR
