BEGIN:VCALENDAR
VERSION:2.0
PRODID:-//Sabre//Sabre VObject 4.5.8//EN
CALSCALE:GREGORIAN
BEGIN:VEVENT
UID:sabre-vobject-5cd2bde4-4bfc-4736-9163-08e8c457be6d
DTSTAMP:20260424T145243Z
SUMMARY:Führung in der Staudengärtnerei Gaißmaier
DESCRIPTION:https://keb-neu-ulm.de/fuehrung-in-der-staudengaertnerei-gaissm
 aier_id324570
DTSTART;TZID=Europe/Berlin:20260521T111500
LOCATION:Staudengärtnerei Gaißmaier\, Jungviehweide 3\, 89257 Illertissen
END:VEVENT
END:VCALENDAR
