BEGIN:VCALENDAR
VERSION:2.0
PRODID:-//Sabre//Sabre VObject 4.5.8//EN
CALSCALE:GREGORIAN
BEGIN:VEVENT
UID:sabre-vobject-1e257cd0-219d-4ccc-99b0-19e6a0dc3e6e
DTSTAMP:20260420T225557Z
SUMMARY:"Zukunftsplan: Hoffnung" - Online-Veranstaltung
DESCRIPTION:https://keb-neu-ulm.de/zukunftsplan-hoffnung-online-veranstaltu
 ng_id58206
DTSTART;TZID=Europe/Berlin:20220122T100000
LOCATION:Online
END:VEVENT
END:VCALENDAR
